BEGIN:VCALENDAR
VERSION:2.0
PRODID:-//ChamberMaster//Event Calendar 2.0//EN
METHOD:PUBLISH
X-PUBLISHED-TTL:P3D
REFRESH-INTERVAL:P3D
CALSCALE:GREGORIAN
BEGIN:VEVENT
DTSTART:20230223T180000Z
DTEND:20230223T190000Z
X-MICROSOFT-CDO-ALLDAYEVENT:FALSE
SUMMARY:ZOOM Lunch Lesson by Think Big Go Local
DESCRIPTION:Join us for a ZOOM Lunch Lesson and learn how to create an entire quarter of social media content in under an hour. This presentation is brought to you by our neighbors at the Wauconda Area Chamber of Commerce and Think Big Go Local. To register for this event\, simply email us with your contact info and we will send along the ZOOM link. This is a FREE program.
X-ALT-DESC;FMTTYPE=text/html:Join us for a ZOOM Lunch Lesson and learn how to create an entire quarter of social media content in under an hour. This presentation is brought to you by our neighbors at the Wauconda Area Chamber of Commerce and Think Big Go Local. To register for this event\, simply email us with your contact info and we will send along the ZOOM link. This is a FREE program.
LOCATION:via ZOOM
UID:e.2066.4981
SEQUENCE:3
DTSTAMP:20260419T223211Z
URL:https://dev.chainolakeschamber.com/events/details/zoom-lunch-lesson-by-think-big-go-local-4981
END:VEVENT

END:VCALENDAR
