BEGIN:VCALENDAR
VERSION:2.0
PRODID:-//ChamberMaster//Event Calendar 2.0//EN
METHOD:PUBLISH
X-PUBLISHED-TTL:P3D
REFRESH-INTERVAL:P3D
CALSCALE:GREGORIAN
BEGIN:VEVENT
DTSTART;VALUE=DATE:20180329
DTEND;VALUE=DATE:20180330
TRANSP:TRANSPARENT
X-MICROSOFT-CDO-ALLDAYEVENT:TRUE
SUMMARY:YWF - Member Appreciation Day
DESCRIPTION:MEMBER APPRECIATION DAY + OPEN GYM MARCH 29! \n\nEveryone is Welcome! \n\nWin Free Memberships and Personal Training\n\nFood\, Prizes\, and Music!
X-ALT-DESC;FMTTYPE=text/html:MEMBER APPRECIATION DAY + OPEN GYM MARCH 29!&nbsp\;<br />\nEveryone is Welcome!&nbsp\;<br />\nWin Free Memberships and Personal Training<br />\nFood\, Prizes\, and Music!&nbsp\;<br />\n&nbsp\;
LOCATION:YWF -Your World Fitness 2222 Pierce Dr Spring Grove IL
UID:e.2066.937
SEQUENCE:3
DTSTAMP:20260426T030215Z
URL:https://dev.chainolakeschamber.com/events/details/ywf-member-appreciation-day-937
END:VEVENT

END:VCALENDAR
