BEGIN:VCALENDAR
VERSION:2.0
PRODID:-//ChamberMaster//Event Calendar 2.0//EN
METHOD:PUBLISH
X-PUBLISHED-TTL:P3D
REFRESH-INTERVAL:P3D
CALSCALE:GREGORIAN
BEGIN:VEVENT
DTSTART:20190921T140000Z
DTEND:20190921T170000Z
X-MICROSOFT-CDO-ALLDAYEVENT:FALSE
SUMMARY:Youth Fishing Derby
DESCRIPTION:Free family fun
X-ALT-DESC;FMTTYPE=text/html:Free family fun
LOCATION:Lakefront Park 71 Nippersink Fox Lake
UID:e.2066.3129
SEQUENCE:3
DTSTAMP:20260425T010555Z
URL:https://dev.chainolakeschamber.com/events/details/youth-fishing-derby-3129
END:VEVENT

END:VCALENDAR
