BEGIN:VCALENDAR
VERSION:2.0
PRODID:-//ChamberMaster//Event Calendar 2.0//EN
METHOD:PUBLISH
X-PUBLISHED-TTL:P3D
REFRESH-INTERVAL:P3D
CALSCALE:GREGORIAN
BEGIN:VEVENT
DTSTART:20230706T233000Z
DTEND:20230707T010000Z
X-MICROSOFT-CDO-ALLDAYEVENT:FALSE
SUMMARY:YogaPaca Unwined
DESCRIPTION:Alpaca Yoga + Yoga UnWined = Yogapaca UnWined   Dana with Sweet Feet Yoga is returning. Join us for an evening to relax and unwind...or UnWine[d]...at Magic Meadows Alpaca Farm with a fun and relaxing yoga class followed by wine and savory snacks!    During our yoga class you will get to meet Sally's sweet female alpacas\, learn about her farm\, and enjoy a yoga class with Dana while the alpacas join in the fun too! This special event will be taught by Sweet Feet Yoga owner\, Dana Robinson. Come in just as you are (no yoga experience needed)\, invite a friend to join you\, and enjoy a class that will be filled with fun and laughter as well as relaxation and rejuvenation.
X-ALT-DESC;FMTTYPE=text/html:Alpaca Yoga + Yoga UnWined = Yogapaca UnWined &nbsp\; Dana with Sweet Feet Yoga is returning. Join us for an evening to relax and unwind...or UnWine[d]...at Magic Meadows Alpaca Farm with a fun and relaxing yoga class followed by wine and savory snacks!&nbsp\; &nbsp\; During our yoga class you will get to meet Sally&#39\;s sweet female alpacas\, learn about her farm\, and enjoy a yoga class with Dana while the alpacas join in the fun too! This special event will be taught by Sweet Feet Yoga owner\, Dana Robinson. Come in just as you are (no yoga experience needed)\, invite a friend to join you\, and enjoy a class that will be filled with fun and laughter as well as relaxation and rejuvenation.
LOCATION:Magic Meadows Alpacas 9502 Thayer Road Wonder Lake\, IL 60097
UID:e.2066.5237
SEQUENCE:3
DTSTAMP:20260419T135949Z
URL:https://dev.chainolakeschamber.com/events/details/yogapaca-unwined-5237
END:VEVENT

END:VCALENDAR
