BEGIN:VCALENDAR
VERSION:2.0
PRODID:-//ChamberMaster//Event Calendar 2.0//EN
METHOD:PUBLISH
X-PUBLISHED-TTL:P3D
REFRESH-INTERVAL:P3D
CALSCALE:GREGORIAN
BEGIN:VEVENT
DTSTART:20230708T150000Z
DTEND:20230708T160000Z
X-MICROSOFT-CDO-ALLDAYEVENT:FALSE
SUMMARY:YogaPaca Family Edition
DESCRIPTION:Family Yoga with the Alpacas is back with Dana\, Sweet Feet Yoga Bring your family and join us for this exciting Sweet Feet Yoga experience at the beautiful Magic Meadows Alpaca Farm in Wonder Lake! It's Family Yoga style!! Kids 4 years old and older are invited to join their parent/caregiver out on the Alpaca Farm! Come meet Sally's sweet female alpacas\, learn about her farm\, and enjoy a family yoga class with Dana while the alpacas join in the fun too! Limited space available...be sure to register now! Family Alpaca Yoga Price: $45 for first 2 family members\, $60 for 3 family members\, $75 for 4 family members
X-ALT-DESC;FMTTYPE=text/html:Family Yoga with the Alpacas is back with Dana\, Sweet Feet Yoga Bring your family and join us for this exciting Sweet Feet Yoga experience at the beautiful Magic Meadows Alpaca Farm in Wonder Lake! It&#39\;s Family Yoga style!! Kids 4 years old and older are invited to join their parent/caregiver out on the Alpaca Farm! Come meet Sally&#39\;s sweet female alpacas\, learn about her farm\, and enjoy a family yoga class with Dana while the alpacas join in the fun too! Limited space available...be sure to register now! Family Alpaca Yoga Price: $45 for first 2 family members\, $60 for 3 family members\, $75 for 4 family members&nbsp\;
LOCATION:Magic Meadows Alpacas
UID:e.2066.5238
SEQUENCE:3
DTSTAMP:20260419T140044Z
URL:https://dev.chainolakeschamber.com/events/details/yogapaca-family-edition-5238
END:VEVENT

END:VCALENDAR
