BEGIN:VCALENDAR
VERSION:2.0
PRODID:-//ChamberMaster//Event Calendar 2.0//EN
METHOD:PUBLISH
X-PUBLISHED-TTL:P3D
REFRESH-INTERVAL:P3D
CALSCALE:GREGORIAN
BEGIN:VEVENT
DTSTART:20230604T220000Z
DTEND:20230604T231500Z
X-MICROSOFT-CDO-ALLDAYEVENT:FALSE
SUMMARY:YogaPaca: Alpaca Yoga
DESCRIPTION:Join us for our 3rd season of this exciting Sweet Feet Yoga experience at the beautiful Magic Meadows Alpaca Farm in Wonder Lake!\n\n\n\nSame as goat yoga except with Alpacas. They won't walk on you only bring a peaceful calming new experience to your yoga class. \n\nCome meet Sally's sweet female alpacas\, learn about her farm\, and enjoy an hour yoga class with Dana while the alpacas join in the fun too!\n\nThese Adult Yoga classes are for participants that are 16 years and older only (we do have occasional Family Yogapaca classes in which the littler ones can join in too).\n\n\n\nAlso offering take home gifts for you or someone special. Accept cash or credit cards for gifts.\n\nLimited space available...be sure to register now at https://sweetfeetyoga.com/classes/workshops/
X-ALT-DESC;FMTTYPE=text/html:<div>Join us for our 3rd season of this exciting Sweet Feet Yoga experience at the beautiful Magic Meadows Alpaca Farm in Wonder Lake!<br />\n<br />\nSame as goat yoga except with Alpacas. They won&#39\;t walk on you only bring a peaceful calming new experience to your yoga class.&nbsp\;</div>\n\n<p>Come meet Sally&#39\;s sweet female alpacas\, learn about her farm\, and enjoy an hour yoga class with Dana while the alpacas join in the fun too!</p>\n\n<p>These Adult Yoga classes are for participants that are 16 years and older only (we do have occasional Family Yogapaca classes in which the littler ones can join in too).<br />\n<br />\nAlso offering take home gifts for you or someone special. Accept cash or credit cards for gifts.</p>\n\n<p>Limited space available...be sure to register now at https://sweetfeetyoga.com/classes/workshops/</p>\n
LOCATION:Magic Meadows Alpacas 9502 Thayer Road\, Wonder Lake\, IL 60097
UID:e.2066.5222
SEQUENCE:3
DTSTAMP:20260419T172039Z
URL:https://dev.chainolakeschamber.com/events/details/yogapaca-alpaca-yoga-5222
END:VEVENT

END:VCALENDAR
