BEGIN:VCALENDAR
VERSION:2.0
PRODID:-//ChamberMaster//Event Calendar 2.0//EN
METHOD:PUBLISH
X-PUBLISHED-TTL:P3D
REFRESH-INTERVAL:P3D
CALSCALE:GREGORIAN
BEGIN:VEVENT
DTSTART:20190226T173000Z
DTEND:20190226T190000Z
X-MICROSOFT-CDO-ALLDAYEVENT:FALSE
SUMMARY:YMCA Camp Duncan -
DESCRIPTION:Meet the Board of Directors and execuitive director.\n\nHear about the vision for the new chamber
X-ALT-DESC;FMTTYPE=text/html:Meet the Board of Directors and execuitive director.<br />\nHear about the vision for the new chamber&nbsp\;
LOCATION:Camp Duncan 32405 N Hwy 12 Ingleside IL
UID:e.2066.2189
SEQUENCE:3
DTSTAMP:20260425T102450Z
URL:https://dev.chainolakeschamber.com/events/details/ymca-camp-duncan-2189
END:VEVENT

END:VCALENDAR
