BEGIN:VCALENDAR
VERSION:2.0
PRODID:-//ChamberMaster//Event Calendar 2.0//EN
METHOD:PUBLISH
X-PUBLISHED-TTL:P3D
REFRESH-INTERVAL:P3D
CALSCALE:GREGORIAN
BEGIN:VEVENT
DTSTART:20230805T143000Z
DTEND:20230805T160000Z
X-MICROSOFT-CDO-ALLDAYEVENT:FALSE
SUMMARY:YagaPaca Family Edition
DESCRIPTION:Family Yoga with the Alpacas is back!! Bring your family and join us for this exciting Sweet Feet Yoga experience at the beautiful Magic Meadows Alpaca Farm in Wonder Lake! It's Family Yoga style!! Kids 4 years old and older are invited to join their parent/caregiver out on the Alpaca Farm!\n\nCome meet Sally's sweet female alpacas\, learn about her farm\, and enjoy a family yoga class with Dana while the alpacas join in the fun too!\n\nLimited space available...be sure to register now!\n\n\n\nWe also have cute alpaca products for purchase for yourself or as a gift.
X-ALT-DESC;FMTTYPE=text/html:Family Yoga with the Alpacas is back!! Bring your family and join us for this exciting Sweet Feet Yoga experience at the beautiful Magic Meadows Alpaca Farm in Wonder Lake! It&#39\;s Family Yoga style!! Kids 4 years old and older are invited to join their parent/caregiver out on the Alpaca Farm!<br />\nCome meet Sally&#39\;s sweet female alpacas\, learn about her farm\, and enjoy a family yoga class with Dana while the alpacas join in the fun too!<br />\nLimited space available...be sure to register now!<br />\n<br />\nWe also have cute alpaca products for purchase for yourself or as a gift.<br />\n&nbsp\;
LOCATION:Magic Meadows Alpacas\, 9502 Thayer Road\, Wonder Lake IL 60097
UID:e.2066.5328
SEQUENCE:3
DTSTAMP:20260419T121222Z
URL:https://dev.chainolakeschamber.com/events/details/yagapaca-family-edition-5328
END:VEVENT

END:VCALENDAR
