BEGIN:VCALENDAR
VERSION:2.0
PRODID:-//ChamberMaster//Event Calendar 2.0//EN
METHOD:PUBLISH
X-PUBLISHED-TTL:P3D
REFRESH-INTERVAL:P3D
CALSCALE:GREGORIAN
BEGIN:VEVENT
DTSTART;VALUE=DATE:20210515
DTEND;VALUE=DATE:20210517
TRANSP:TRANSPARENT
X-MICROSOFT-CDO-ALLDAYEVENT:TRUE
SUMMARY:World Migratory Bird Days
DESCRIPTION:Can you name a bird just by knowing the size of its nest? Do you know what birds dine on? Compete in JepoBirdy and a Bird Behavior Scavenger Hunt! Learn how to use your binoculars and go on a bird walk. These are just some of the fun activities in celebration of birds at World Migratory Bird Days (WMBD) to be held in northeast Illinois and southeast Wisconsin. 2021's theme is Sing\, Fly\, Soar-Like a Bird and the Illinois Department of Natural Resources (IDNR)\, McHenry County Conservation District (MCCD)\, Friends of Hackmatack National Wildlife Refuge\, Lakeland and McHenry County Audubon Societies and the U.S. Fish & Wildlife Service (USFWS) are once again bringing a world-wide celebration of birds to the Illinois-Wisconsin stateline region! Participants are invited to complete activities and win prizes: the more activities completed\, the more prizes won
X-ALT-DESC;FMTTYPE=text/html:Can you name a bird just by knowing the size of its nest? Do you know what birds dine on? Compete in JepoBirdy and a Bird Behavior Scavenger Hunt! Learn how to use your binoculars and go on a bird walk. These are just some of the fun activities in celebration of birds at World Migratory Bird Days (WMBD) to be held in northeast Illinois and southeast Wisconsin. 2021&rsquo\;s theme is Sing\, Fly\, Soar-Like a Bird and the Illinois Department of Natural Resources (IDNR)\, McHenry County Conservation District (MCCD)\, Friends of Hackmatack National Wildlife Refuge\, Lakeland and McHenry County Audubon Societies and the U.S. Fish &amp\; Wildlife Service (USFWS) are once again bringing a world-wide celebration of birds to the Illinois-Wisconsin stateline region! Participants are invited to complete activities and win prizes: the more activities completed\, the more prizes won
LOCATION:Ringwood IL\, Genoa City\, WI & Ingleside\, IL
UID:e.2066.4030
SEQUENCE:3
DTSTAMP:20260423T155946Z
URL:https://dev.chainolakeschamber.com/events/details/world-migratory-bird-days-4030
END:VEVENT

END:VCALENDAR
