BEGIN:VCALENDAR
VERSION:2.0
PRODID:-//ChamberMaster//Event Calendar 2.0//EN
METHOD:PUBLISH
X-PUBLISHED-TTL:P3D
REFRESH-INTERVAL:P3D
CALSCALE:GREGORIAN
BEGIN:VEVENT
DTSTART:20210621T140000Z
DTEND:20210621T151500Z
X-MICROSOFT-CDO-ALLDAYEVENT:FALSE
SUMMARY:Word: Working with Large Documents
DESCRIPTION:What constitutes a "lengthy" Microsoft Word document? For some it might be a five-page document. For others\, it might be a 25-page manuscript. Working with and navigating a lengthy document can be slow and clumsy. In this webinar\, you will learn about features that can help you work with longer Microsoft Word documents. Add headers and footers and page numbers Add cross-references and captions where needed Automatically create a table of contents for the document Learn how these items update as the document evolves over time Apply section breaks Properly use styles\, sections\, and page numbering
X-ALT-DESC;FMTTYPE=text/html:What constitutes a &quot\;lengthy&quot\; Microsoft Word document? For some it might be a five-page document. For others\, it might be a 25-page manuscript. Working with and navigating a lengthy document can be slow and clumsy. In this webinar\, you will learn about features that can help you work with longer Microsoft Word documents. Add headers and footers and page numbers Add cross-references and captions where needed Automatically create a table of contents for the document Learn how these items update as the document evolves over time Apply section breaks Properly use styles\, sections\, and page numbering
LOCATION:Live Zoom
UID:e.2066.4038
SEQUENCE:3
DTSTAMP:20260423T125138Z
URL:https://dev.chainolakeschamber.com/events/details/word-working-with-large-documents-4038
END:VEVENT

END:VCALENDAR
