BEGIN:VCALENDAR
VERSION:2.0
PRODID:-//ChamberMaster//Event Calendar 2.0//EN
METHOD:PUBLISH
X-PUBLISHED-TTL:P3D
REFRESH-INTERVAL:P3D
CALSCALE:GREGORIAN
BEGIN:VEVENT
DTSTART:20210423T130000Z
DTEND:20210423T170000Z
X-MICROSOFT-CDO-ALLDAYEVENT:FALSE
SUMMARY:Word: Basics
DESCRIPTION:Word is designed to help you when creating professional-looking documents. Its features and powerful tools can make your work easy. In this course\, you'll learn how to use Word to create and edit simple documents\, format documents\; use the proofing tools\, add items such as bullets and symbols and printing documents.
X-ALT-DESC;FMTTYPE=text/html:Word is designed to help you when creating professional-looking documents. Its features and powerful tools can make your work easy. In this course\, you&#39\;ll learn how to use Word to create and edit simple documents\, format documents\; use the proofing tools\, add items such as bullets and symbols and printing documents.
LOCATION:Live Zoom
UID:e.2066.3923
SEQUENCE:3
DTSTAMP:20260423T155819Z
URL:https://dev.chainolakeschamber.com/events/details/word-basics-3923
END:VEVENT

END:VCALENDAR
