BEGIN:VCALENDAR
VERSION:2.0
PRODID:-//ChamberMaster//Event Calendar 2.0//EN
METHOD:PUBLISH
X-PUBLISHED-TTL:P3D
REFRESH-INTERVAL:P3D
CALSCALE:GREGORIAN
BEGIN:VEVENT
DTSTART:20221204T180000Z
DTEND:20221204T190000Z
X-MICROSOFT-CDO-ALLDAYEVENT:FALSE
SUMMARY:Wool Warp and Wheel 20th Anniversary Ribbon Cutting!
DESCRIPTION:Help us celebrate 20 years of business at Wool Warp and Wheel!
X-ALT-DESC;FMTTYPE=text/html:Help us celebrate 20 years of business at Wool Warp and Wheel!
LOCATION:5605 Mill St. Richmond\, IL 60071
UID:e.2066.4893
SEQUENCE:3
DTSTAMP:20260420T021645Z
URL:https://dev.chainolakeschamber.com/events/details/wool-warp-and-wheel-20th-anniversary-ribbon-cutting-4893
END:VEVENT

END:VCALENDAR
