BEGIN:VCALENDAR
VERSION:2.0
PRODID:-//ChamberMaster//Event Calendar 2.0//EN
METHOD:PUBLISH
X-PUBLISHED-TTL:P3D
REFRESH-INTERVAL:P3D
CALSCALE:GREGORIAN
BEGIN:VEVENT
DTSTART:20220827T000000Z
DTEND:20220827T010000Z
X-MICROSOFT-CDO-ALLDAYEVENT:FALSE
SUMMARY:Wonder Lake Water Ski Show - Wild Wild Wonder Lake
DESCRIPTION:Come enjoy the show! Bring a chair or blanket and enjoy great waterskiing by our nationally ranked team. Free admission. On-street parking. Soft drinks and team sportswear is available for purchase through our Boosters. Donations gladly accepted
X-ALT-DESC;FMTTYPE=text/html:Come enjoy the show! Bring a chair or blanket and enjoy great waterskiing by our nationally ranked team. Free admission. On-street parking. Soft drinks and team sportswear is available for purchase through our Boosters. Donations gladly accepted
LOCATION:Wonder Lake Center Beach 4107-4111 E Lake Shore Dr Wonder Lake
UID:e.2066.4556
SEQUENCE:3
DTSTAMP:20260422T140015Z
URL:https://dev.chainolakeschamber.com/events/details/wonder-lake-water-ski-show-wild-wild-wonder-lake-4556
END:VEVENT

END:VCALENDAR
