BEGIN:VCALENDAR
VERSION:2.0
PRODID:-//ChamberMaster//Event Calendar 2.0//EN
METHOD:PUBLISH
X-PUBLISHED-TTL:P3D
REFRESH-INTERVAL:P3D
CALSCALE:GREGORIAN
BEGIN:VEVENT
DTSTART:20230702T213000Z
DTEND:20230702T230000Z
X-MICROSOFT-CDO-ALLDAYEVENT:FALSE
SUMMARY:Wonder Lake Water Ski Show - Beauty and the Beast
DESCRIPTION:Be our guest at a Ski Show this summer!\n\nBring a chair or blanket and enjoy great waterskiing by our nationally ranked team. Free admission. On-street parking. Soft drinks and team sportswear is available for purchase through our Boosters. Donations gladly accepted
X-ALT-DESC;FMTTYPE=text/html:Be our guest at a Ski Show this summer!<br />\nBring a chair or blanket and enjoy great waterskiing by our nationally ranked team. Free admission. On-street parking. Soft drinks and team sportswear is available for purchase through our Boosters. Donations gladly accepted
LOCATION:Wonder Lake Center Beach 4107-4111 E Lake Shore Dr Wonder Lake
UID:e.2066.5212
SEQUENCE:3
DTSTAMP:20260419T154757Z
URL:https://dev.chainolakeschamber.com/events/details/wonder-lake-water-ski-show-beauty-and-the-beast-5212
END:VEVENT

END:VCALENDAR
