BEGIN:VCALENDAR
VERSION:2.0
PRODID:-//ChamberMaster//Event Calendar 2.0//EN
METHOD:PUBLISH
X-PUBLISHED-TTL:P3D
REFRESH-INTERVAL:P3D
CALSCALE:GREGORIAN
BEGIN:VEVENT
DTSTART:20220904T210000Z
DTEND:20220904T230000Z
X-MICROSOFT-CDO-ALLDAYEVENT:FALSE
SUMMARY:Wonder Lake Labor Day Ski Show
DESCRIPTION:Come enjoy the final show for 2022. Bring a chair or blanket and enjoy great waterskiing by our nationally ranked team. Free admission. On-street parking. Soft drinks and team sportswear available for purchase through our Boosters. Donations gladly accepted
X-ALT-DESC;FMTTYPE=text/html:<span class="d2edcug0 hpfvmrgz qv66sw1b c1et5uql lr9zc1uh a8c37x1j keod5gw0 nxhoafnm aigsh9s9 d3f4x2em fe6kdd0r mau55g9w c8b282yb iv3no6db jq4qci2q a3bd9o3v b1v8xokw oo9gr5id" dir="auto">Come enjoy the final show for 2022. Bring a chair or blanket and enjoy great waterskiing by our nationally ranked team. Free admission. On-street parking. Soft drinks and team sportswear available for purchase through our Boosters. Donations gladly accepted</span>
LOCATION:Wonder Lake Center Beach 4107-4111 E Lake Shore Dr Wonder Lake
UID:e.2066.4549
SEQUENCE:3
DTSTAMP:20260422T121427Z
URL:https://dev.chainolakeschamber.com/events/details/wonder-lake-labor-day-ski-show-4549
END:VEVENT

END:VCALENDAR
