BEGIN:VCALENDAR
VERSION:2.0
PRODID:-//ChamberMaster//Event Calendar 2.0//EN
METHOD:PUBLISH
X-PUBLISHED-TTL:P3D
REFRESH-INTERVAL:P3D
CALSCALE:GREGORIAN
BEGIN:VEVENT
DTSTART:20230211T183000Z
DTEND:20230211T203000Z
X-MICROSOFT-CDO-ALLDAYEVENT:FALSE
SUMMARY:Women's Ministry Galentine's Day Event
DESCRIPTION:2nd Annual Women's Ministry Galentine's Event!\n\nPlease join us for fun games and fellowship on Saturday\, February 11th! Galentine's is a celebration of Valentine's Day and being a "Gal"! What better way to spend an afternoon than with women you know and meeting some women you don't yet know.\n\nA sample of the games/tables: Farkle\; Sorry\; Bible Outburst\; Yahtzee\; Scrabble\; Sequence.\n\nWhether you are a Scrabble Champion or have never played any of these games\, please join us for an afternoon of fun. We will begin at 12:30PM and conclude at 2:30PM so everyone gets home in the daylight. The cost for this event is $5 for each participant. Snacks and refreshments will be served and prizes will be awarded!\n\nRegistration is required for this event. If you need assistance in registering\, please email wm@riverridgewi.com. We will be happy to assist you with reserving your spot at the game table!\n\nThis event is open to all women ages 12 to 112! \n\nPlease encourage your daughters\, granddaughters and their friends to join us at Church for an afternoon of fellowship and FUN!\n\nTo Register\, go to: www.riverridge.online/galentine-2023/
X-ALT-DESC;FMTTYPE=text/html:<div>2nd Annual Women&rsquo\;s Ministry Galentine&rsquo\;s Event!</div>\n\n<div>Please join us for fun games and fellowship on Saturday\, February 11th! Galentine&rsquo\;s is a celebration of Valentine&rsquo\;s Day and being a &ldquo\;Gal&rdquo\;! What better way to spend an afternoon than with women you know and meeting some women you don&rsquo\;t yet know.</div>\n\n<div>A sample of the games/tables: Farkle\; Sorry\; Bible Outburst\; Yahtzee\; Scrabble\; Sequence.</div>\n\n<div>Whether you are a Scrabble Champion or have never played any of these games\, please join us for an afternoon of fun. We will begin at 12:30PM and conclude at 2:30PM so everyone gets home in the daylight. The cost for this event is $5 for each participant. Snacks and refreshments will be served and prizes will be awarded!</div>\n\n<div>Registration is required for this event. If you need assistance in registering\, please email wm@riverridgewi.com. We will be happy to assist you with reserving your spot at the game table!<br />\nThis event is open to all women ages 12 to 112!&nbsp\;</div>\n\n<div>Please encourage your daughters\, granddaughters and their friends to join us at Church for an afternoon of fellowship and FUN!</div>\n\n<div>To Register\, go to:&nbsp\;<a class="x1i10hfl xjbqb8w x6umtig x1b1mbwd xaqea5y xav7gou x9f619 x1ypdohk xt0psk2 xe8uvvx xdj266r x11i5rnm xat24cr x1mh8g0r xexx8yu x4uap5 x18d9i69 xkhd6sd x16tdsg8 x1hl2dhg xggy1nq x1a2a7pz xt0b8zv x1fey0fg" href="http://www.riverridge.online/galentine-2023/?fbclid=IwAR0wxIlePlhS6FzKTvkzn74N2Y62Af5pW3JznVfBJVRyGUm0ZGFeA8fvoOA" rel="nofollow noopener" style="color: var(--blue-link)\; cursor: pointer\; text-decoration: none\; margin: 0px\; text-align: inherit\; padding: 0px\; outline: none\; border: 0px\; box-sizing: border-box\; list-style: none\; touch-action: manipulation\; display: inline\; font-family: inherit\;" tabindex="0" target="_blank">www.riverridge.online/galentine-2023/</a></div>\n
LOCATION:River Ridge Church 7664 Wilmot Road Spring Grove\, IL 60081
UID:e.2066.4907
SEQUENCE:3
DTSTAMP:20260420T002054Z
URL:https://dev.chainolakeschamber.com/events/details/women-s-ministry-galentine-s-day-event-4907
END:VEVENT

END:VCALENDAR
