BEGIN:VCALENDAR
VERSION:2.0
PRODID:-//ChamberMaster//Event Calendar 2.0//EN
METHOD:PUBLISH
X-PUBLISHED-TTL:P3D
REFRESH-INTERVAL:P3D
CALSCALE:GREGORIAN
BEGIN:VEVENT
DTSTART:20230112T173000Z
DTEND:20230112T190000Z
X-MICROSOFT-CDO-ALLDAYEVENT:FALSE
SUMMARY:Women of Success with Ali O'Brien
DESCRIPTION:Presenters:\n\nLindsey Nemcek (PR Manager)\, Roneida Martin (Executive Director of Community Programs)\, and Dr. Ali O'Brien (Vice President for Community & Workforce Partnerships\n\nProgram:\n\nThis Women of Success panel is excited to share strategies for developing professional and personal networks\, taking risks\, leveraging resources to build business partnerships\, and targeting education opportunities throughout your career. Each woman is at a unique juncture in their career and will highlight examples for early\, mid\, and late career professionals.
X-ALT-DESC;FMTTYPE=text/html:<div class="x11i5rnm xat24cr x1mh8g0r x1vvkbs xdj266r" style="margin: 0px\; overflow-wrap: break-word\; font-family: &quot\;Segoe UI Historic&quot\;\, &quot\;Segoe UI&quot\;\, Helvetica\, Arial\, sans-serif\; color: rgb(5\, 5\, 5)\; font-size: 15px\; background-color: rgb(255\, 255\, 255)\;">Presenters:<br />\nLindsey Nemcek (PR Manager)\, Roneida Martin (Executive Director of Community Programs)\, and Dr. Ali O&rsquo\;Brien (Vice President for Community &amp\; Workforce Partnerships</div>\n\n<div class="x11i5rnm xat24cr x1mh8g0r x1vvkbs xtlvy1s" style="margin: 0.5em 0px 0px\; overflow-wrap: break-word\; font-family: &quot\;Segoe UI Historic&quot\;\, &quot\;Segoe UI&quot\;\, Helvetica\, Arial\, sans-serif\; color: rgb(5\, 5\, 5)\; font-size: 15px\; background-color: rgb(255\, 255\, 255)\;">Program:<br />\nThis Women of Success panel is excited to share strategies for developing professional and personal networks\, taking risks\, leveraging resources to build business partnerships\, and targeting education opportunities throughout your career. Each woman is at a unique juncture in their career and will highlight examples for early\, mid\, and late career professionals.&nbsp\;</div>\n
LOCATION:Let's Make Memories 145 Sayton Road Unit A Fox Lake\, IL 60020
UID:e.2066.4610
SEQUENCE:3
DTSTAMP:20260420T002623Z
URL:https://dev.chainolakeschamber.com/events/details/women-of-success-with-ali-o-brien-4610
END:VEVENT

END:VCALENDAR
