BEGIN:VCALENDAR
VERSION:2.0
PRODID:-//ChamberMaster//Event Calendar 2.0//EN
METHOD:PUBLISH
X-PUBLISHED-TTL:P3D
REFRESH-INTERVAL:P3D
CALSCALE:GREGORIAN
BEGIN:VEVENT
DTSTART:20230413T163000Z
DTEND:20230413T180000Z
X-MICROSOFT-CDO-ALLDAYEVENT:FALSE
SUMMARY:Women of Success - Turn up the Volume!
DESCRIPTION:Turn up the Volume with our next Women of Success Luncheon!\n\nBrenda Frederick will discuss Strategies to Claim your Success and Robin Walker will discuss How to Stand out in your Industry!
X-ALT-DESC;FMTTYPE=text/html:Turn up the Volume with our next Women of Success Luncheon!<br />\nBrenda Frederick will discuss Strategies to Claim your Success and Robin Walker will discuss How to Stand out in your Industry!
LOCATION:Rusy Nail Saloon 4520 Ringwood Rd Ringwood IL 60072
UID:e.2066.5021
SEQUENCE:3
DTSTAMP:20260419T190223Z
URL:https://dev.chainolakeschamber.com/events/details/women-of-success-turn-up-the-volume-5021
END:VEVENT

END:VCALENDAR
