BEGIN:VCALENDAR
VERSION:2.0
PRODID:-//ChamberMaster//Event Calendar 2.0//EN
METHOD:PUBLISH
X-PUBLISHED-TTL:P3D
REFRESH-INTERVAL:P3D
CALSCALE:GREGORIAN
BEGIN:VEVENT
DTSTART:20180418T163000Z
DTEND:20180418T180000Z
X-MICROSOFT-CDO-ALLDAYEVENT:FALSE
SUMMARY:Women Of Success Speaker Series
DESCRIPTION:Lunch\, Network and Get Motivated!!\n\n\n\nNamon Johnson with NJ Elite Performance will be teaching on Mindset Techniques. You will leave with the tools to alleviate unnecessary stress\, increase earnings\, and strengthen relationships.  Create a NEW YOU!
X-ALT-DESC;FMTTYPE=text/html:Lunch\, Network and Get Motivated!!<br />\n<br />\nNamon Johnson with NJ Elite Performance will be teaching on Mindset Techniques. You will leave with the tools to alleviate unnecessary stress\, increase earnings\, and strengthen relationships.&nbsp\; Create a NEW YOU!
LOCATION:Stucky's Bar and Grille 4000 Johnsburg Rd Johnsburg\, IL 60051
UID:e.2066.931
SEQUENCE:3
DTSTAMP:20260426T013113Z
URL:https://dev.chainolakeschamber.com/events/details/women-of-success-speaker-series-931
END:VEVENT

END:VCALENDAR
