BEGIN:VCALENDAR
VERSION:2.0
PRODID:-//ChamberMaster//Event Calendar 2.0//EN
METHOD:PUBLISH
X-PUBLISHED-TTL:P3D
REFRESH-INTERVAL:P3D
CALSCALE:GREGORIAN
BEGIN:VEVENT
DTSTART:20180719T043000Z
DTEND:20180718T180000Z
X-MICROSOFT-CDO-ALLDAYEVENT:FALSE
SUMMARY:Women Of Success Speaker Series 7/18/18
DESCRIPTION:Lisa Raupp will teach us how to start and maintain communication with clients and how to stand out among others in your industry in order to build a lifelong relationship.
X-ALT-DESC;FMTTYPE=text/html:<span style="font-family:calibri\,sans-serif\;"><span style="font-size:14.0pt\;">Lisa Raupp will teach us how to start and maintain communication with clients and how to stand out among others in your industry in order to build a lifelong relationship. &nbsp\;&nbsp\;</span></span>
LOCATION:Stucky's Bar and Grille in Johnsburg\, IL 4000 Johnsburg Rd\, Johnsburg IL
UID:e.2066.1119
SEQUENCE:3
DTSTAMP:20260425T204742Z
URL:https://dev.chainolakeschamber.com/events/details/women-of-success-speaker-series-7-18-18-1119
END:VEVENT

END:VCALENDAR
