BEGIN:VCALENDAR
VERSION:2.0
PRODID:-//ChamberMaster//Event Calendar 2.0//EN
METHOD:PUBLISH
X-PUBLISHED-TTL:P3D
REFRESH-INTERVAL:P3D
CALSCALE:GREGORIAN
BEGIN:VEVENT
DTSTART:20221012T163000Z
DTEND:20221012T180000Z
X-MICROSOFT-CDO-ALLDAYEVENT:FALSE
SUMMARY:Women of Success - Mental Health Strategies for Success
DESCRIPTION:Strengthen Your Confidence\, Develop Mental Clarity\, Take Control and Be Creative\, Upgrade Your Communication and Grant Yourself Compassion
X-ALT-DESC;FMTTYPE=text/html:Strengthen Your Confidence\, Develop Mental Clarity\, Take Control and Be Creative\, Upgrade Your Communication and Grant Yourself Compassion&nbsp\;&nbsp\;&nbsp\;&nbsp\;&nbsp\;&nbsp\;&nbsp\;&nbsp\;&nbsp\;&nbsp\;&nbsp\;&nbsp\;
LOCATION:Dockers Restaurant\, 33 W. Grand Ave.\, Fox Lake\, IL 60020 (Upper Room) Lunch choices are available during registration.
UID:e.2066.4569
SEQUENCE:3
DTSTAMP:20260422T112423Z
URL:https://dev.chainolakeschamber.com/events/details/women-of-success-mental-health-strategies-for-success-4569
END:VEVENT

END:VCALENDAR
