BEGIN:VCALENDAR
VERSION:2.0
PRODID:-//ChamberMaster//Event Calendar 2.0//EN
METHOD:PUBLISH
X-PUBLISHED-TTL:P3D
REFRESH-INTERVAL:P3D
CALSCALE:GREGORIAN
BEGIN:VEVENT
DTSTART:20200226T173000Z
DTEND:20200226T190000Z
X-MICROSOFT-CDO-ALLDAYEVENT:FALSE
SUMMARY:Women of Success Lunch
DESCRIPTION:Women Of Success \n\nA lunch and learn style of networking created for women\n\n\n\nLunch includes\n\n\n\nChoice of\n\nSalad with grilled chicken\n\nChicken Caesar Wrap or\n\nPenne with Marinara and\n\nNon alcoholic beverage and dessert
X-ALT-DESC;FMTTYPE=text/html:<br />\n<span style="font-size:18px\;">Women Of Success </span><br />\nA lunch and learn style of networking created for women<br />\n<br />\nLunch includes<br />\n<br />\nChoice of<br />\nSalad with grilled chicken<br />\nChicken Caesar Wrap or<br />\nPenne with Marinara and<br />\nNon <span data-offset-key="8hoga-0-0"><span data-text="true">alcoholic</span></span> beverage and dessert<br />\n<br />\n<br />\n<br />\n<br />\n<br />\n<br />\n&nbsp\;
LOCATION:Moretti's 164 S US highway 12 Fox Lake IL May use lower level entrance
UID:e.2066.3235
SEQUENCE:3
DTSTAMP:20260424T155619Z
URL:https://dev.chainolakeschamber.com/events/details/women-of-success-lunch-3235
END:VEVENT

END:VCALENDAR
