BEGIN:VCALENDAR
VERSION:2.0
PRODID:-//ChamberMaster//Event Calendar 2.0//EN
METHOD:PUBLISH
X-PUBLISHED-TTL:P3D
REFRESH-INTERVAL:P3D
CALSCALE:GREGORIAN
BEGIN:VEVENT
DTSTART:20190626T163000Z
DTEND:20190626T180000Z
X-MICROSOFT-CDO-ALLDAYEVENT:FALSE
SUMMARY:Women of Success Lunch
DESCRIPTION:Women Of Success \n\n\n\n\n\n\n\n\n\nA lunch and learn style of networking created for women\n\n\n\n\n\n\n\nFuture date -September 25\n\n\n\n\n\nLunch includes\n\n\n\nChoice of\n\nSalad with grilled chicken\n\nChicken Caesar Wrap or\n\nPenne with Marinara\n\nand\n\nNon alcoholic beverage\n\nand of course a cookie!
X-ALT-DESC;FMTTYPE=text/html:<span style="font-size:18px\;">Women Of Success </span><br />\n<br />\n<br />\n<br />\n<br />\nA lunch and learn style of networking created for women<br />\n<br />\n<br />\n<br />\nFuture date -September 25<br />\n<br />\n<br />\nLunch includes<br />\n<br />\nChoice of<br />\nSalad with grilled chicken<br />\nChicken Caesar Wrap or<br />\nPenne with Marinara<br />\nand<br />\nNon <span data-offset-key="8hoga-0-0"><span data-text="true">alcoholic</span></span> beverage<br />\nand of course a cookie!<br />\n<br />\n<br />\n<br />\n<br />\n<br />\n<br />\n&nbsp\;
LOCATION:Moretti's 164 S US highway 12 Fox Lake IL
UID:e.2066.2795
SEQUENCE:3
DTSTAMP:20260425T040222Z
URL:https://dev.chainolakeschamber.com/events/details/women-of-success-lunch-2795
END:VEVENT

END:VCALENDAR
