BEGIN:VCALENDAR
VERSION:2.0
PRODID:-//ChamberMaster//Event Calendar 2.0//EN
METHOD:PUBLISH
X-PUBLISHED-TTL:P3D
REFRESH-INTERVAL:P3D
CALSCALE:GREGORIAN
BEGIN:VEVENT
DTSTART:20200527T163000Z
DTEND:20200527T163000Z
X-MICROSOFT-CDO-ALLDAYEVENT:FALSE
SUMMARY:Women of Success
DESCRIPTION:
X-ALT-DESC;FMTTYPE=text/html:
LOCATION:Moretti's 164 S US highway 12 Fox Lake IL May use lower level entrance
UID:e.2066.3389
SEQUENCE:3
DTSTAMP:20260424T095819Z
URL:https://dev.chainolakeschamber.com/events/details/women-of-success-3389
END:VEVENT

END:VCALENDAR
