BEGIN:VCALENDAR
VERSION:2.0
PRODID:-//ChamberMaster//Event Calendar 2.0//EN
METHOD:PUBLISH
X-PUBLISHED-TTL:P3D
REFRESH-INTERVAL:P3D
CALSCALE:GREGORIAN
BEGIN:VEVENT
DTSTART:20220324T140000Z
DTEND:20220324T143000Z
X-MICROSOFT-CDO-ALLDAYEVENT:FALSE
SUMMARY:Women in Leadership (Preview)
DESCRIPTION:With females leaving the workforce in droves during the last ~20 months\, companies are racing to retain female leaders\, replenish their leadership pipeline and invest in leadership development to accelerate readiness to meet goals. Now\, more than ever\, companies need to prioritize development and retention of female leaders due to a decrease in supply and growing demand.
X-ALT-DESC;FMTTYPE=text/html:With females leaving the workforce in droves during the last ~20 months\, companies are racing to retain female leaders\, replenish their leadership pipeline and invest in leadership development to accelerate readiness to meet goals. Now\, more than ever\, companies need to prioritize development and retention of female leaders due to a decrease in supply and growing demand.
LOCATION:Live Zoom
UID:e.2066.4476
SEQUENCE:3
DTSTAMP:20260422T223703Z
URL:https://dev.chainolakeschamber.com/events/details/women-in-leadership-preview-4476
END:VEVENT

END:VCALENDAR
