BEGIN:VCALENDAR
VERSION:2.0
PRODID:-//ChamberMaster//Event Calendar 2.0//EN
METHOD:PUBLISH
X-PUBLISHED-TTL:P3D
REFRESH-INTERVAL:P3D
CALSCALE:GREGORIAN
BEGIN:VEVENT
DTSTART:20210719T220000Z
DTEND:20210720T000000Z
X-MICROSOFT-CDO-ALLDAYEVENT:FALSE
SUMMARY:Women in Leadership
DESCRIPTION:Learn about how women are changing the workforce\, the value they provide to organizations and the benefits of having women in leadership roles.
X-ALT-DESC;FMTTYPE=text/html:Learn about how women are changing the workforce\, the value they provide to organizations and the benefits of having women in leadership roles.
LOCATION:Live Zoom
UID:e.2066.4074
SEQUENCE:3
DTSTAMP:20260423T112016Z
URL:https://dev.chainolakeschamber.com/events/details/women-in-leadership-4074
END:VEVENT

END:VCALENDAR
