BEGIN:VCALENDAR
VERSION:2.0
PRODID:-//ChamberMaster//Event Calendar 2.0//EN
METHOD:PUBLISH
X-PUBLISHED-TTL:P3D
REFRESH-INTERVAL:P3D
CALSCALE:GREGORIAN
BEGIN:VEVENT
DTSTART:20230322T163000Z
DTEND:20230322T180000Z
X-MICROSOFT-CDO-ALLDAYEVENT:FALSE
SUMMARY:Women in Business Lunch 'N Learn
DESCRIPTION:Did you enjoy Kathrine Pfister Violett at the State of the Villages? Come see her again as a panelist at the 2nd Annual Women in Business Lunch and Learn with with the Grayslake Area Chamber and the Lake Villa\, Lindenhurst\, Round Lake Area Chamber!
X-ALT-DESC;FMTTYPE=text/html:<span style="color: rgb(5\, 5\, 5)\; font-family: &quot\;Segoe UI Historic&quot\;\, &quot\;Segoe UI&quot\;\, Helvetica\, Arial\, sans-serif\; font-size: 15px\;">Did you enjoy Kathrine </span><span style="color: rgb(5\, 5\, 5)\; font-family: &quot\;Segoe UI Historic&quot\;\, &quot\;Segoe UI&quot\;\, Helvetica\, Arial\, sans-serif\; font-size: 15px\;">Pfister Violett at the State of the Villages? Come see her again as a panelist at the 2nd Annual Women in Business Lunch and Learn with&nbsp\;with the Grayslake Area Chamber and the Lake Villa\, Lindenhurst\, Round Lake Area Chamber!</span>
LOCATION:First Draft Grayslake 250 Center Street Grayslake IL
UID:e.2066.4954
SEQUENCE:3
DTSTAMP:20260419T223123Z
URL:https://dev.chainolakeschamber.com/events/details/women-in-business-lunch-n-learn-4954
END:VEVENT

END:VCALENDAR
