BEGIN:VCALENDAR
VERSION:2.0
PRODID:-//ChamberMaster//Event Calendar 2.0//EN
METHOD:PUBLISH
X-PUBLISHED-TTL:P3D
REFRESH-INTERVAL:P3D
CALSCALE:GREGORIAN
BEGIN:VEVENT
DTSTART:20190710T140000Z
DTEND:20190710T170000Z
X-MICROSOFT-CDO-ALLDAYEVENT:FALSE
SUMMARY:Wintrust Morning Movie Series 2019
DESCRIPTION:The series runs family-friendly  movies for just $1 for 10 Wednesdays starting June 5 through August 7. Doors open at 9 a.m.\, and the film starts  at 10 a.m. Theatre staff and local community organizations will have activities to entertain movie-goers before  the film starts. \n\n\n\n\n\n\n\nThe 2019 Wintrust Morning Movie Series Schedule:  \n\nJune 5  Sgt. Stubby: An American Hero\n\nJune 12  Trolls\n\nJune 19 Teen Titans Go! To the Movies\n\nJune 26  Smallfoot \n\nJuly 3    Dr. Seuss' The Lorax\n\nJuly 10  Hotel Transylvania 3\n\nJuly 17  The Lego Movie 2\n\nJuly 24 Celebrate Christmas in July! -    Dr. Seuss' The Grinch\n\nJuly 31 How to Train Your Dragon\n\nAugust 7 Wonder Park
X-ALT-DESC;FMTTYPE=text/html:The series runs family-friendly&nbsp\; movies for just <span style="font-size:14px\;"><strong>$1 for 10 Wednesdays starting June 5 through August 7. Doors open at 9 a.m.\, and the film starts&nbsp\; at 10 a.m. </strong></span>Theatre staff and local community organizations will have activities to entertain movie-goers before&nbsp\; the film starts.&nbsp\;<br />\n<br />\n<br />\n<br />\n<span style="font-size:14px\;"><span style="font-family:comic sans ms\;"><span style="font-size:18px\;"><strong>The 2019 Wintrust Morning Movie Series Schedule:&nbsp\;&nbsp\;</strong></span><br />\n<span style="font-family:times new roman\;">June 5&nbsp\; Sgt. Stubby: An American Hero<br />\nJune 12&nbsp\; Trolls<br />\nJune 19 Teen Titans Go! To the Movies<br />\nJune 26&nbsp\; Smallfoot&nbsp\;<br />\nJuly 3&nbsp\; &nbsp\; Dr. Seuss&#39\; The Lorax<br />\nJuly 10&nbsp\; Hotel Transylvania 3<br />\nJuly 17&nbsp\; The Lego Movie 2<br />\nJuly 24 Celebrate Christmas in July! -&nbsp\; &#8203\; Dr. Seuss&#39\; The Grinch<br />\nJuly 31 How to Train Your Dragon<br />\nAugust 7 Wonder Park</span></span></span><br />\n<br />\n&nbsp\;
LOCATION:Classic Cinema - Fox Lake Theatre 115 Towne Center Lane Fox Lake IL Key Dates: May 3\, 2019 - WMMS 2019 announced (group ticketing available) May 15\, 2019 - Individual tickets on sale June 5\, 2019 - First WMMS show August 7\, 2019 - Last WMMS show
UID:e.2066.2801
SEQUENCE:3
DTSTAMP:20260425T040411Z
URL:https://dev.chainolakeschamber.com/events/details/wintrust-morning-movie-series-2019-07-10-2019-2801
END:VEVENT

END:VCALENDAR
