BEGIN:VCALENDAR
VERSION:2.0
PRODID:-//ChamberMaster//Event Calendar 2.0//EN
METHOD:PUBLISH
X-PUBLISHED-TTL:P3D
REFRESH-INTERVAL:P3D
CALSCALE:GREGORIAN
BEGIN:VEVENT
DTSTART:20210725T140000Z
DTEND:20210725T200000Z
X-MICROSOFT-CDO-ALLDAYEVENT:FALSE
SUMMARY:Winn Road Car Show
DESCRIPTION:Please join FLRSGAC Auto Show featuring:\n\n\n	Free Dash Plaque to first 250 Cars\n	19 Classes with Special Interest and Best of Show Class Award  \n	50/50 Cash Raffle\n	Food Trucks\n	Music\n	Vendor Displays\n	Free Goodie Bags to First 250 show cars\n	Sponsorship Opportunities\n	Fun for the entire Family!
X-ALT-DESC;FMTTYPE=text/html:<p><span style="font-family:verdana\;"><span style="font-size:14px\;">Please join FLRSGAC Auto Show featuring:</span></span></p>\n\n<ul>\n	<li><span style="font-size:14px\;"><span style="font-family:verdana\;">Free Dash Plaque to first 250 Cars</span></span></li>\n	<li><span style="font-family:verdana\;"><span style="font-size:14px\;">19 Classes with Special Interest and Best of Show Class Award&nbsp\; </span></span></li>\n	<li><span style="font-family:verdana\;"><span style="font-size:14px\;">50/50 Cash Raffle</span></span></li>\n	<li><span style="font-family:verdana\;"><span style="font-size:14px\;">Food Trucks</span></span></li>\n	<li><span style="font-family:verdana\;"><span style="font-size:14px\;">Music</span></span></li>\n	<li><span style="font-family:verdana\;"><span style="font-size:14px\;">Vendor Displays</span></span></li>\n	<li><span style="font-family:verdana\;"><span style="font-size:14px\;">Free Goodie Bags to First 250 show cars</span></span></li>\n	<li><span style="font-family:verdana\;"><span style="font-size:14px\;">Sponsorship Opportunities</span></span></li>\n	<li><span style="font-family:verdana\;"><span style="font-size:14px\;">Fun for the entire Family!</span></span></li>\n</ul>\n\n<p>&nbsp\;</p>\n\n<p><br />\n<br />\n<span style="font-family:verdana\;"><span style="font-size:14px\;">&#8203\;</span></span><br />\n&nbsp\;</p>\n
LOCATION:
UID:e.2066.3858
SEQUENCE:3
DTSTAMP:20260423T112028Z
URL:https://dev.chainolakeschamber.com/events/details/winn-road-car-show-3858
END:VEVENT

END:VCALENDAR
