BEGIN:VCALENDAR
VERSION:2.0
PRODID:-//ChamberMaster//Event Calendar 2.0//EN
METHOD:PUBLISH
X-PUBLISHED-TTL:P3D
REFRESH-INTERVAL:P3D
CALSCALE:GREGORIAN
BEGIN:VEVENT
DTSTART:20221103T210000Z
DTEND:20221104T010000Z
X-MICROSOFT-CDO-ALLDAYEVENT:FALSE
SUMMARY:Whistle Stop Cafe's Dinner GRAND OPENING
DESCRIPTION:You are cordially invited to join us at the grand opening dinner service at Whistle Stop Cafe! Located in Fox Lake\, IL less than a block from the Fox Lake Metra Train Stop. \n\n\n\nUnder NEW ownership\, we have decided to expand to dinner service and with our liquor license we will now be offering a drink menu! \n\n\n\nDoors open at 4PM for Grand Opening Festivities and Dinner Service. \n\n\n\nHope to see you there!
X-ALT-DESC;FMTTYPE=text/html:You are cordially invited to join us at the grand opening dinner service at Whistle Stop Cafe! Located in Fox Lake\, IL less than a block from the Fox Lake Metra Train Stop.&nbsp\;<br />\n<br />\nUnder NEW ownership\, we have decided to expand to dinner service and with our liquor license we will now be offering a drink menu!&nbsp\;<br />\n<br />\nDoors open at 4PM for Grand Opening Festivities and Dinner Service.&nbsp\;<br />\n<br />\nHope to see you there!
LOCATION:15 E Grand Ave Fox Lake IL 60020
UID:e.2066.4647
SEQUENCE:3
DTSTAMP:20260422T092457Z
URL:https://dev.chainolakeschamber.com/events/details/whistle-stop-cafe-s-dinner-grand-opening-4647
END:VEVENT

END:VCALENDAR
