BEGIN:VCALENDAR
VERSION:2.0
PRODID:-//ChamberMaster//Event Calendar 2.0//EN
METHOD:PUBLISH
X-PUBLISHED-TTL:P3D
REFRESH-INTERVAL:P3D
CALSCALE:GREGORIAN
BEGIN:VEVENT
DTSTART:20190117T003000Z
DTEND:20190117T012000Z
X-MICROSOFT-CDO-ALLDAYEVENT:FALSE
SUMMARY:What Happens When We Die by Reverend Dr. Timothy Oswald
DESCRIPTION:Hope Lutheran Church is having a Bible Study Series called\n\n\n\nWhat Happens When We Die?
X-ALT-DESC;FMTTYPE=text/html:<span class="_3oh- _58nk"><span>Hope Lutheran Church is having a </span><span>Bible Study Series called<br />\n<br />\n<span style="font-size:14px\;"><strong>What Happens When We Die?</strong></span></span></span>
LOCATION:Hope Lutheran Church 876 Lance Dr Twin Lakes\, Wisconsin
UID:e.2066.1905
SEQUENCE:3
DTSTAMP:20260425T115918Z
URL:https://dev.chainolakeschamber.com/events/details/what-happens-when-we-die-by-reverend-dr-timothy-oswald-01-16-2019-1905
END:VEVENT

END:VCALENDAR
