BEGIN:VCALENDAR
VERSION:2.0
PRODID:-//ChamberMaster//Event Calendar 2.0//EN
METHOD:PUBLISH
X-PUBLISHED-TTL:P3D
REFRESH-INTERVAL:P3D
CALSCALE:GREGORIAN
BEGIN:VEVENT
DTSTART:20230606T173000Z
DTEND:20230606T180000Z
X-MICROSOFT-CDO-ALLDAYEVENT:FALSE
SUMMARY:WEBINAR: Employee or Independent Contractor?
DESCRIPTION:Join us the first Tuesday of every month for an informative\, 30-minute "Lunch-n-Learn" webinar\, featuring various employment law-related topics for business owners and human resource managers.\n\nJune Topic: This webinar will explore the requirements   and consequences   for classifying workers as employees or independent contractors.
X-ALT-DESC;FMTTYPE=text/html:<p style="color: rgb(36\, 36\, 36)\; font-family: &quot\;Segoe UI&quot\;\, &quot\;Segoe UI Web (West European)&quot\;\, &quot\;Segoe UI&quot\;\, -apple-system\, BlinkMacSystemFont\, Roboto\, &quot\;Helvetica Neue&quot\;\, sans-serif\; font-size: 15px\;"><span style="border: 0px\; font-style: inherit\; font-variant: inherit\; font-weight: inherit\; font-stretch: inherit\; font-size: 12pt\; line-height: inherit\; font-family: inherit\; font-optical-sizing: inherit\; font-kerning: inherit\; font-feature-settings: inherit\; font-variation-settings: inherit\; margin: 0px\; padding: 0px\; vertical-align: baseline\; color: rgb(51\, 51\, 51) !important\;">Join us the first Tuesday of every month for an informative\, 30-minute &quot\;Lunch-n-Learn&quot\; webinar\, featuring various employment law-related topics for business owners and human resource managers.</span></p>\n\n<p style="color: rgb(36\, 36\, 36)\; font-family: &quot\;Segoe UI&quot\;\, &quot\;Segoe UI Web (West European)&quot\;\, &quot\;Segoe UI&quot\;\, -apple-system\, BlinkMacSystemFont\, Roboto\, &quot\;Helvetica Neue&quot\;\, sans-serif\; font-size: 15px\;"><span style="font-size:18px\;"><span style="color: rgb(36\, 36\, 36)\; font-family: Calibri\, sans-serif\;">June Topic: This webinar will explore the requirements &ndash\; and consequences &ndash\; for classifying workers as employees or independent contractors.</span></span></p>\n
LOCATION:Virtual
UID:e.2066.5207
SEQUENCE:3
DTSTAMP:20260419T154949Z
URL:https://dev.chainolakeschamber.com/events/details/webinar-employee-or-independent-contractor-5207
END:VEVENT

END:VCALENDAR
