BEGIN:VCALENDAR
VERSION:2.0
PRODID:-//ChamberMaster//Event Calendar 2.0//EN
METHOD:PUBLISH
X-PUBLISHED-TTL:P3D
REFRESH-INTERVAL:P3D
CALSCALE:GREGORIAN
BEGIN:VEVENT
DTSTART:20210826T150000Z
DTEND:20210826T190000Z
X-MICROSOFT-CDO-ALLDAYEVENT:FALSE
SUMMARY:WE’RE BRINGING THE DMV TO YOU!
DESCRIPTION:NO REAL ID CARDS CAN BE OBTAINED AT THE MOBILE UNIT. All payments must be made by check\, credit card\, debit card or money order. NO CASH ACCEPTED. To renew a current Illinois driver's license or lD card\, a valid driver's license or ID card must be presented . To apply for a duplicate or corrected driver's license or ID card\, two forms of identification must be presented.
X-ALT-DESC;FMTTYPE=text/html:NO REAL ID CARDS CAN BE OBTAINED AT THE MOBILE UNIT. All payments must be made by check\, credit card\, debit card or money order. NO CASH ACCEPTED. To renew a current Illinois driver&rsquo\;s license or lD card\, a valid driver&rsquo\;s license or ID card must be presented . To apply for a duplicate or corrected driver&rsquo\;s license or ID card\, two forms of identification must be presented.
LOCATION:McHENRY MOOSE LODGE #691 3535 N. RICHMOND RD. JOHNSBURG\, IL 60051
UID:e.2066.4122
SEQUENCE:3
DTSTAMP:20260423T100216Z
URL:https://dev.chainolakeschamber.com/events/details/we-re-bringing-the-dmv-to-you-4122
END:VEVENT

END:VCALENDAR
