BEGIN:VCALENDAR
VERSION:2.0
PRODID:-//ChamberMaster//Event Calendar 2.0//EN
METHOD:PUBLISH
X-PUBLISHED-TTL:P3D
REFRESH-INTERVAL:P3D
CALSCALE:GREGORIAN
BEGIN:VEVENT
DTSTART:20230505T044500Z
DTEND:20230504T181500Z
X-MICROSOFT-CDO-ALLDAYEVENT:FALSE
SUMMARY:Wauconda Area Chamber of Commerce Fashion Show
DESCRIPTION:Wauconda Area Chamber of Commerce is inviting the Chain O'Lakes Area Chamber of Commerce to their Women in Business Spring Fashion Show!
X-ALT-DESC;FMTTYPE=text/html:Wauconda Area Chamber of Commerce is inviting the Chain O&#39\;Lakes Area Chamber of Commerce to their Women in Business Spring Fashion Show!
LOCATION:Lindy's Landing 115 Park Street Wauconda\, IL
UID:e.2066.5072
SEQUENCE:3
DTSTAMP:20260419T190556Z
URL:https://dev.chainolakeschamber.com/events/details/wauconda-area-chamber-of-commerce-fashion-show-5072
END:VEVENT

END:VCALENDAR
