BEGIN:VCALENDAR
VERSION:2.0
PRODID:-//ChamberMaster//Event Calendar 2.0//EN
METHOD:PUBLISH
X-PUBLISHED-TTL:P3D
REFRESH-INTERVAL:P3D
CALSCALE:GREGORIAN
BEGIN:VEVENT
DTSTART:20180727T150000Z
DTEND:20180727T160000Z
X-MICROSOFT-CDO-ALLDAYEVENT:FALSE
SUMMARY:Warm-Hearted Walrus on the Farm
DESCRIPTION:Who knew a walrus would visit the farm? Let alone be 'warm-hearted'! Join me to listen to "I Am Warm-Hearted Walrus" with author Joni Downey and then bring this character to life on canvas and have a meet and greet\, too! You must be pre-registered for this event and there is a fee involved. Please visit www.charactersofcharacter.org go to the event calendar to register and see other dates\, times and locations for more fun painting classes and ways to teach your child about vital core values. Ages 1-5 with an adult and ages 6-10 on their own.
X-ALT-DESC;FMTTYPE=text/html:Who knew a walrus would visit the farm? Let alone be &#39\;warm-hearted&#39\;! Join me to listen to &quot\;I Am Warm-Hearted Walrus&quot\; with author Joni Downey and then bring this character to life on canvas and have a meet and greet\, too! You must be pre-registered for this event and there is a fee involved. Please visit www.charactersofcharacter.org go to the event calendar to register and see other dates\, times and locations for more fun painting classes and ways to teach your child about vital core values. Ages 1-5 with an adult and ages 6-10 on their own.
LOCATION:Joni will be at Knotty Pine Farm at 6011 Miller Road in Wonderlake.
UID:e.2066.1177
SEQUENCE:3
DTSTAMP:20260425T204143Z
URL:https://dev.chainolakeschamber.com/events/details/warm-hearted-walrus-on-the-farm-1177
END:VEVENT

END:VCALENDAR
