BEGIN:VCALENDAR
VERSION:2.0
PRODID:-//ChamberMaster//Event Calendar 2.0//EN
METHOD:PUBLISH
X-PUBLISHED-TTL:P3D
REFRESH-INTERVAL:P3D
CALSCALE:GREGORIAN
BEGIN:VEVENT
DTSTART:20220817T220000Z
DTEND:20220818T000000Z
X-MICROSOFT-CDO-ALLDAYEVENT:FALSE
SUMMARY:Volo Museum Ribbon Cutting and Mixer
DESCRIPTION:Volo Museum Multi-Chamber Mixer & Ribbon Cutting\nHosted by the Chain O'Lakes Chamber\n\nLake County | Crystal Lake | Mchenry | Wauconda chambers also invited\nWednesday August 17th from 5-7pm\n\nPizzas - Raffles - Champagne Fountain - Free Admission and more! \n\n \n\nRibbon cutting will be held for the Coney Island Carousel & Music Hall for their fully-restored\, hand-carved\, hand-painted 1928 carousel now open for rides! \n\nTreat your curiosity as you will be able to wander the grounds and see and experience all that Volo Museum and Jurassic Gardens has to offer. \n\nGreat raffles will be drawn and food and drinks provided. \n\nDon't miss the most unique and fun mixer of the year at Volo Museum!
X-ALT-DESC;FMTTYPE=text/html:<span style="color: rgb(32\, 31\, 30)\; font-family: &quot\;Segoe UI&quot\;\, &quot\;Segoe UI Web (West European)&quot\;\, &quot\;Segoe UI&quot\;\, -apple-system\, BlinkMacSystemFont\, Roboto\, &quot\;Helvetica Neue&quot\;\, sans-serif\; font-size: 15px\; background-color: rgb(255\, 255\, 255)\;">Volo Museum Multi-Chamber Mixer &amp\; Ribbon Cutting</span>\n<div style="border: 0px\; font-variant-numeric: inherit\; font-variant-east-asian: inherit\; font-stretch: inherit\; font-size: 15px\; line-height: inherit\; font-family: &quot\;Segoe UI&quot\;\, &quot\;Segoe UI Web (West European)&quot\;\, &quot\;Segoe UI&quot\;\, -apple-system\, BlinkMacSystemFont\, Roboto\, &quot\;Helvetica Neue&quot\;\, sans-serif\; margin: 0px\; padding: 0px\; vertical-align: baseline\; color: rgb(32\, 31\, 30)\; background-color: rgb(255\, 255\, 255)\;">Hosted by the Chain O&#39\;Lakes Chamber</div>\n\n<div style="border: 0px\; font-variant-numeric: inherit\; font-variant-east-asian: inherit\; font-stretch: inherit\; font-size: 15px\; line-height: inherit\; font-family: &quot\;Segoe UI&quot\;\, &quot\;Segoe UI Web (West European)&quot\;\, &quot\;Segoe UI&quot\;\, -apple-system\, BlinkMacSystemFont\, Roboto\, &quot\;Helvetica Neue&quot\;\, sans-serif\; margin: 0px\; padding: 0px\; vertical-align: baseline\; color: rgb(32\, 31\, 30)\; background-color: rgb(255\, 255\, 255)\;">Lake County | Crystal Lake | Mchenry | Wauconda chambers also invited\n<div style="border: 0px\; font: inherit\; margin: 0px\; padding: 0px\; vertical-align: baseline\; color: inherit\;">Wednesday&nbsp\;August 17th from 5-7pm</div>\n\n<div style="border: 0px\; font: inherit\; margin: 0px\; padding: 0px\; vertical-align: baseline\; color: inherit\;">Pizzas - Raffles - Champagne Fountain - Free Admission and more!&nbsp\;</div>\n\n<div style="border: 0px\; font: inherit\; margin: 0px\; padding: 0px\; vertical-align: baseline\; color: inherit\;">&nbsp\;</div>\n\n<div style="border: 0px\; font: inherit\; margin: 0px\; padding: 0px\; vertical-align: baseline\; color: inherit\;">Ribbon cutting will be held for the Coney Island Carousel &amp\; Music Hall for their fully-restored\, hand-carved\, hand-painted 1928 carousel now open for rides!&nbsp\;</div>\n\n<div style="border: 0px\; font: inherit\; margin: 0px\; padding: 0px\; vertical-align: baseline\; color: inherit\;">Treat your&nbsp\;curiosity as you will be able to wander the grounds and see and experience&nbsp\;all that Volo Museum and Jurassic Gardens has to offer.&nbsp\;</div>\n\n<div style="border: 0px\; font: inherit\; margin: 0px\; padding: 0px\; vertical-align: baseline\; color: inherit\;">Great raffles will be drawn and food and drinks provided.&nbsp\;</div>\n\n<div style="border: 0px\; font: inherit\; margin: 0px\; padding: 0px\; vertical-align: baseline\; color: inherit\;">Don&#39\;t miss the&nbsp\;most unique and fun mixer of the year at Volo Museum!</div>\n</div>\n
LOCATION:27582 Volo Village Rd\, Volo\, IL 60073
UID:e.2066.4567
SEQUENCE:3
DTSTAMP:20260422T135512Z
URL:https://dev.chainolakeschamber.com/events/details/volo-museum-ribbon-cutting-and-mixer-4567
END:VEVENT

END:VCALENDAR
