BEGIN:VCALENDAR
VERSION:2.0
PRODID:-//ChamberMaster//Event Calendar 2.0//EN
METHOD:PUBLISH
X-PUBLISHED-TTL:P3D
REFRESH-INTERVAL:P3D
CALSCALE:GREGORIAN
BEGIN:VEVENT
DTSTART:20230414T150000Z
DTEND:20230414T220000Z
X-MICROSOFT-CDO-ALLDAYEVENT:FALSE
SUMMARY:Volo Museum Grand Opening of the Titanic Exhibit
DESCRIPTION:The period clothing. The luxury automobiles. The travel gear and lore that puts a visitor at history's helm. It's all here\, with riveting detail!
X-ALT-DESC;FMTTYPE=text/html:The period clothing. The luxury automobiles. The travel gear and lore that puts a visitor at history&#39\;s helm. It&#39\;s all here\, with riveting detail!
LOCATION:Volo Museum 27582 Volo Village Road Volo\, IL 60073
UID:e.2066.5075
SEQUENCE:3
DTSTAMP:20260419T205756Z
URL:https://dev.chainolakeschamber.com/events/details/volo-museum-grand-opening-of-the-titanic-exhibit-5075
END:VEVENT

END:VCALENDAR
