BEGIN:VCALENDAR
VERSION:2.0
PRODID:-//ChamberMaster//Event Calendar 2.0//EN
METHOD:PUBLISH
X-PUBLISHED-TTL:P3D
REFRESH-INTERVAL:P3D
CALSCALE:GREGORIAN
BEGIN:VEVENT
DTSTART:20221126T230000Z
DTEND:20221127T000000Z
X-MICROSOFT-CDO-ALLDAYEVENT:FALSE
SUMMARY:Volo 18th Annual Christmas Tree Lighting
DESCRIPTION:This year's event will be BACK INDOORS!! We will start outside for Santa's arrival and head inside to the Community Room for visits with Santa.\n	Families will gather near the front of Village Hall to watch the tree lighting and listen to Christmas Carols.\n	Santa will arrive by fire engine to light the tree.   \n	Once Santa makes his way to the Community Room\, families will be asked to line up to do individual visits with Santa.\n	Refreshments will be available for purchase from My Funnel Truck who will be on site during the event.  They will be situated on the patio just off the community room and there will be picnic tables set up so you can enjoy your hot cocoa and sweet treats!\n	There will be a North Pole Mailbox located near the front entrance to Village Hall for your children to place their wish lists in. The mailbox will remain outside Village Hall until 12/23.  \n	Kids GLOW items will be handed out for each donation of new hats and gloves or food items for the food pantry.
X-ALT-DESC;FMTTYPE=text/html:<ul style="box-sizing: border-box\; margin: 0px 0px 1.4em\; padding: 0px 0px 0px 2em\; font-family: Arial\; color: rgb(55\, 50\, 46)\; line-height: 1.5\; font-size: 14.4px\; background-color: rgb(255\, 255\, 255)\;">\n	<li id="isPasted" style="box-sizing: border-box\; margin-bottom: 0.35em\; border: 0px none\;">This year&rsquo\;s event will be BACK INDOORS!! We will start outside for Santa&#39\;s arrival and head inside to the Community Room for visits with Santa.</li>\n	<li style="box-sizing: border-box\; margin-bottom: 0.35em\; border: 0px none\;">Families will gather near the front of Village Hall to watch the tree lighting and listen to Christmas Carols.</li>\n	<li style="box-sizing: border-box\; margin-bottom: 0.35em\; border: 0px none\;">Santa will arrive by fire engine to light the tree. &nbsp\;&nbsp\;</li>\n	<li style="box-sizing: border-box\; margin-bottom: 0.35em\; border: 0px none\;">Once Santa makes his way to the Community Room\, families will be asked to line up to do individual visits with Santa.</li>\n	<li style="box-sizing: border-box\; margin-bottom: 0.35em\; border: 0px none\;">Refreshments will be available for purchase from&nbsp\;<span style="box-sizing: border-box\; font-weight: 700\;">My Funnel Truck</span>&nbsp\;who will be on site during the event. &nbsp\;They will be situated on the patio just off the community room and there will be picnic tables set up so you can enjoy your hot cocoa and sweet treats!</li>\n	<li style="box-sizing: border-box\; margin-bottom: 0.35em\; border: 0px none\;">There will be a North Pole Mailbox located near the front entrance to Village Hall for your children to place their wish lists in. The mailbox will remain outside Village Hall until 12/23. &nbsp\;</li>\n	<li style="box-sizing: border-box\; margin-bottom: 0.35em\; border: 0px none\;">Kids GLOW items will be handed out for each donation of new hats and gloves or food items for the food pantry.</li>\n</ul>\n\n<p style="box-sizing: border-box\; margin-bottom: 1.4em\; border: 0px none\; color: rgb(55\, 50\, 46)\; font-family: Arial\; font-size: 14.4px\; background-color: rgb(255\, 255\, 255)\;">&nbsp\;</p>\n
LOCATION:Village Hall 500 S. Fish Lake Rd. Volo IL
UID:e.2066.4892
SEQUENCE:3
DTSTAMP:20260422T090856Z
URL:https://dev.chainolakeschamber.com/events/details/volo-18th-annual-christmas-tree-lighting-4892
END:VEVENT

END:VCALENDAR
