BEGIN:VCALENDAR
VERSION:2.0
PRODID:-//ChamberMaster//Event Calendar 2.0//EN
METHOD:PUBLISH
X-PUBLISHED-TTL:P3D
REFRESH-INTERVAL:P3D
CALSCALE:GREGORIAN
BEGIN:VEVENT
DTSTART:20230805T150000Z
DTEND:20230805T180000Z
X-MICROSOFT-CDO-ALLDAYEVENT:FALSE
SUMMARY:Volleyball Tournement at KC's Cabin
DESCRIPTION:Mid Summer Slam Volleyball Tournement at KCs Cabin!\n\nMinimum 2 Girls\n\nFor more information\, email kcscabin94@gmail.com
X-ALT-DESC;FMTTYPE=text/html:Mid Summer Slam Volleyball Tournement at KCs Cabin!<br />\nMinimum 2 Girls<br />\nFor more information\, email kcscabin94@gmail.com
LOCATION:KC's Cabin Spring Grove
UID:e.2066.5319
SEQUENCE:3
DTSTAMP:20260419T122025Z
URL:https://dev.chainolakeschamber.com/events/details/volleyball-tournement-at-kc-s-cabin-5319
END:VEVENT

END:VCALENDAR
