BEGIN:VCALENDAR
VERSION:2.0
PRODID:-//ChamberMaster//Event Calendar 2.0//EN
METHOD:PUBLISH
X-PUBLISHED-TTL:P3D
REFRESH-INTERVAL:P3D
CALSCALE:GREGORIAN
BEGIN:VEVENT
DTSTART:20191214T230000Z
DTEND:20191215T010000Z
X-MICROSOFT-CDO-ALLDAYEVENT:FALSE
SUMMARY:Visit Santa Link O'Chain Cyclery
DESCRIPTION:
X-ALT-DESC;FMTTYPE=text/html:
LOCATION:Link O'Chain Cyclery 11 E Grand Ave Fox Lake
UID:e.2066.3173
SEQUENCE:3
DTSTAMP:20260424T202122Z
URL:https://dev.chainolakeschamber.com/events/details/visit-santa-link-o-chain-cyclery-3173
END:VEVENT

END:VCALENDAR
