BEGIN:VCALENDAR
VERSION:2.0
PRODID:-//ChamberMaster//Event Calendar 2.0//EN
METHOD:PUBLISH
X-PUBLISHED-TTL:P3D
REFRESH-INTERVAL:P3D
CALSCALE:GREGORIAN
BEGIN:VEVENT
DTSTART:20210221T210000Z
DTEND:20210221T230000Z
X-MICROSOFT-CDO-ALLDAYEVENT:FALSE
SUMMARY:Virtual Calcutta Raffle Sponsored by the Fox Lake-Round Lake Area Rotary Club
DESCRIPTION:Support your community while enjoying a fun virtual afternoon featuring 2 Calcutta raffle drawings and live cocktail creations by Championship Bartender Scott Armstrong!\n\nProceeds from this raffle help support: Annual Christmas Party for the Children.\n\n\n\nThis past Christmas 400 elementary students were provided with Winter attire\, school supplies\, food and gifts thanks to your continued support! Grant & Round Lake High School Scholarships
X-ALT-DESC;FMTTYPE=text/html:Support your community while enjoying a fun virtual afternoon featuring 2 Calcutta raffle drawings and live cocktail creations by Championship Bartender Scott Armstrong!<br />\nProceeds from this raffle help support: Annual Christmas Party for the Children.<br />\n<br />\nThis past Christmas 400 elementary students were provided with Winter attire\, school supplies\, food and gifts thanks to your continued support! Grant &amp\; Round Lake High School Scholarships
LOCATION:VIRTUAL
UID:e.2066.3712
SEQUENCE:3
DTSTAMP:20260423T193830Z
URL:https://dev.chainolakeschamber.com/events/details/virtual-calcutta-raffle-sponsored-by-the-fox-lake-round-lake-area-rotary-club-3712
END:VEVENT

END:VCALENDAR
