BEGIN:VCALENDAR
VERSION:2.0
PRODID:-//ChamberMaster//Event Calendar 2.0//EN
METHOD:PUBLISH
X-PUBLISHED-TTL:P3D
REFRESH-INTERVAL:P3D
CALSCALE:GREGORIAN
BEGIN:VEVENT
DTSTART:20221007T150000Z
DTEND:20221008T220000Z
X-MICROSOFT-CDO-ALLDAYEVENT:FALSE
SUMMARY:Vintage Shop Hop at Three Little Birds
DESCRIPTION:Take a road trip on the Vintage Shop Hop 2022 and stop at Three Little Birds along the way!\n\n400 small businesses will be open for your to get all you Fall decorations and gifts\, as well as a jump start to your holiday shopping!
X-ALT-DESC;FMTTYPE=text/html:Take a road trip on the Vintage Shop Hop 2022 and stop at Three Little Birds along the way!<br />\n400 small businesses will be open for your to get all you Fall decorations and gifts\, as well as a jump start to your holiday shopping!
LOCATION:2020 US Highway 12\, Spring Grove\, IL 60081
UID:e.2066.4631
SEQUENCE:3
DTSTAMP:20260422T121012Z
URL:https://dev.chainolakeschamber.com/events/details/vintage-shop-hop-at-three-little-birds-4631
END:VEVENT

END:VCALENDAR
