BEGIN:VCALENDAR
VERSION:2.0
PRODID:-//ChamberMaster//Event Calendar 2.0//EN
METHOD:PUBLISH
X-PUBLISHED-TTL:P3D
REFRESH-INTERVAL:P3D
CALSCALE:GREGORIAN
BEGIN:VEVENT
DTSTART:20230805T200000Z
DTEND:20230806T000000Z
X-MICROSOFT-CDO-ALLDAYEVENT:FALSE
SUMMARY:Village of Spring Grove Craft Beer Festival
DESCRIPTION:The Spring Grove Community Engagement Commitee is hosting its first annual Craft Beer Festival at the beautiful Hatchery Park.  Live entertainment by Amy Rose Music\, Food trucks will be on site as well as many local distributors showcasing their summer brews. The historic Hatchery building will be open for tours.
X-ALT-DESC;FMTTYPE=text/html:The Spring Grove Community Engagement Commitee is hosting its first annual Craft Beer Festival at the beautiful Hatchery Park.&nbsp\; Live entertainment by Amy Rose Music\, Food trucks will be on site as well as many local distributors showcasing their summer brews. The historic Hatchery building will be open for tours.
LOCATION:Hatchery Park 2314 Hatchery Road Spring Grove\, IL 60081
UID:e.2066.5360
SEQUENCE:3
DTSTAMP:20260419T140739Z
URL:https://dev.chainolakeschamber.com/events/details/village-of-spring-grove-craft-beer-festival-5360
END:VEVENT

END:VCALENDAR
