BEGIN:VCALENDAR
VERSION:2.0
PRODID:-//ChamberMaster//Event Calendar 2.0//EN
METHOD:PUBLISH
X-PUBLISHED-TTL:P3D
REFRESH-INTERVAL:P3D
CALSCALE:GREGORIAN
BEGIN:VEVENT
DTSTART:20180721T140000Z
DTEND:20180722T210000Z
X-MICROSOFT-CDO-ALLDAYEVENT:FALSE
SUMMARY:Village of Richmond's "Christmas in July"
DESCRIPTION:Christmas in July\n\n\n\nCraft and Vendor Show
X-ALT-DESC;FMTTYPE=text/html:Christmas in July<br />\n<br />\nCraft and Vendor Show
LOCATION:Memorial Hall 10308 Main St\, Richmond\, IL
UID:e.2066.1120
SEQUENCE:3
DTSTAMP:20260425T222359Z
URL:https://dev.chainolakeschamber.com/events/details/village-of-richmond-s-christmas-in-july-1120
END:VEVENT

END:VCALENDAR
