BEGIN:VCALENDAR
VERSION:2.0
PRODID:-//ChamberMaster//Event Calendar 2.0//EN
METHOD:PUBLISH
X-PUBLISHED-TTL:P3D
REFRESH-INTERVAL:P3D
CALSCALE:GREGORIAN
BEGIN:VEVENT
DTSTART:20180714T160000Z
DTEND:20180714T180000Z
X-MICROSOFT-CDO-ALLDAYEVENT:FALSE
SUMMARY:USO BBQ for the Troops- Gary Lang Auto Group
DESCRIPTION:BBQ for the Troops\n\nAll proceeds go to the USO of Illinois
X-ALT-DESC;FMTTYPE=text/html:BBQ for the Troops<br />\nAll proceeds go to the USO of Illinois<br />\n&nbsp\;
LOCATION:Gary Lang Auto Group 1121 S Route 31\, McHenry IL
UID:e.2066.1181
SEQUENCE:3
DTSTAMP:20260425T204624Z
URL:https://dev.chainolakeschamber.com/events/details/uso-bbq-for-the-troops-gary-lang-auto-group-1181
END:VEVENT

END:VCALENDAR
