BEGIN:VCALENDAR
VERSION:2.0
PRODID:-//ChamberMaster//Event Calendar 2.0//EN
METHOD:PUBLISH
X-PUBLISHED-TTL:P3D
REFRESH-INTERVAL:P3D
CALSCALE:GREGORIAN
BEGIN:VEVENT
DTSTART:20230711T120000Z
DTEND:20230712T000000Z
X-MICROSOFT-CDO-ALLDAYEVENT:FALSE
SUMMARY:Update Your Look for 2023! Headshot pop-up event
DESCRIPTION:Join me (K-Adams Foto) for a business headshot pop-up event! For only $100 receive 1 NEW headshot to show off on social media\, marketing\, your website\, email signature and more. Final image selected by the photographer. Professional edits are an additional charge. Multiple Background options available. Contact me in advance if you have thoughts on props or visions you have that fit your career (I love inspiration shots!). For larger packages\, contact me to book a separate date.\n\n\n\nNeed help figuring out what to wear? CLICK HERE
X-ALT-DESC;FMTTYPE=text/html:<p>Join me (<a href="https://kadamsfoto.com/">K-Adams Foto</a>) for a business headshot pop-up event! For only $100 receive 1 NEW headshot to show off on social media\, marketing\, your website\, email signature and more. Final image selected by the photographer. Professional edits are an additional charge. Multiple Background options available. Contact me in advance if you have thoughts on props or visions you have that fit your career (I love inspiration shots!). For larger packages\, contact me to book a separate date.<br />\n<br />\nNeed help figuring out what to wear?&nbsp\;<a href="https://kadamsfoto.com/when-is-the-last-time-youve-had-a-headshot/?fbclid=IwAR0P9a-Z4Lik4HxePcjvhBgFuMeSS36L8U9XcJcqtNRzyt1K9N36TdP8240" style="color: rgb(158\, 178\, 221)\; font-weight: bold\;" target="_blank">CLICK HERE</a></p>\n
LOCATION:3322 Elm Street McHenry IL 60050
UID:e.2066.5248
SEQUENCE:3
DTSTAMP:20260419T140151Z
URL:https://dev.chainolakeschamber.com/events/details/update-your-look-for-2023-headshot-pop-up-event-5248
END:VEVENT

END:VCALENDAR
