BEGIN:VCALENDAR
VERSION:2.0
PRODID:-//ChamberMaster//Event Calendar 2.0//EN
METHOD:PUBLISH
X-PUBLISHED-TTL:P3D
REFRESH-INTERVAL:P3D
CALSCALE:GREGORIAN
BEGIN:VEVENT
DTSTART:20211218T220000Z
DTEND:20211219T010000Z
X-MICROSOFT-CDO-ALLDAYEVENT:FALSE
SUMMARY:Unwrapping Christmas
DESCRIPTION:Discover the REAL gift of Christmas with your family and friends as awe CELEBRATE the birth of Jesus!\n\n\n\nThere are 2 times to attend. 4:00 pm and 6:00 pm.
X-ALT-DESC;FMTTYPE=text/html:Discover the REAL gift of Christmas with your family and friends as awe CELEBRATE the birth of Jesus!<br />\n<br />\nThere are 2 times to attend. 4:00 pm and 6:00 pm.&nbsp\;
LOCATION:River Ridge Church 7664 Wilmot Road Spring Grove\, IL 60081
UID:e.2066.4161
SEQUENCE:3
DTSTAMP:20260423T032728Z
URL:https://dev.chainolakeschamber.com/events/details/unwrapping-christmas-4161
END:VEVENT

END:VCALENDAR
