BEGIN:VCALENDAR
VERSION:2.0
PRODID:-//ChamberMaster//Event Calendar 2.0//EN
METHOD:PUBLISH
X-PUBLISHED-TTL:P3D
REFRESH-INTERVAL:P3D
CALSCALE:GREGORIAN
BEGIN:VEVENT
DTSTART:20230129T190000Z
DTEND:20230129T230000Z
X-MICROSOFT-CDO-ALLDAYEVENT:FALSE
SUMMARY:United Way's Ultimate Tail Gate Party!
DESCRIPTION:A Win for McHenry County! Join United Way for the Ultimate Tail Gate Party!
X-ALT-DESC;FMTTYPE=text/html:A Win for McHenry County! Join United Way for the Ultimate Tail Gate Party!<br />\n<br />\n&nbsp\;
LOCATION:The Vixen 1208 N. Green St. McHenry IL 60050
UID:e.2066.4909
SEQUENCE:3
DTSTAMP:20260420T021407Z
URL:https://dev.chainolakeschamber.com/events/details/united-way-s-ultimate-tail-gate-party-4909
END:VEVENT

END:VCALENDAR
