BEGIN:VCALENDAR
VERSION:2.0
PRODID:-//ChamberMaster//Event Calendar 2.0//EN
METHOD:PUBLISH
X-PUBLISHED-TTL:P3D
REFRESH-INTERVAL:P3D
CALSCALE:GREGORIAN
BEGIN:VEVENT
DTSTART;VALUE=DATE:20230512
DTEND;VALUE=DATE:20230513
TRANSP:TRANSPARENT
X-MICROSOFT-CDO-ALLDAYEVENT:TRUE
SUMMARY:United Way's Day of Caring 2023
DESCRIPTION:United Way of Greater McHenry County's Day of Caring is an annual day of action that connects teams    of corporate volunteers with community service projects from across McHenry County. Volunteer teams roll up their sleeves and provide much-needed manpower to complete short\, half day or full day projects* they're assigned to at local organizations. \n\nProjects requests are open to ALL nonprofits\, and small businesses\, including local nonprofit agencies\, service clubs\, public schools\, municipal partners and community organizations in McHenry County.
X-ALT-DESC;FMTTYPE=text/html:<span style="color:#005191"><span style="font-family:roboto"><span style="font-size:11.0pt">United Way of Greater McHenry County&rsquo\;s Day of Caring is an annual day of action that connects teams&nbsp\;&nbsp\;&nbsp\; of corporate volunteers with community service projects from across McHenry County. Volunteer teams roll up their sleeves and provide much-needed manpower to complete short\, half day or full day projects</span></span></span><strong><span style="color:#005191"><span style="font-family:roboto"><span style="font-size:12.0pt">*</span></span></span></strong><span style="color:#005191"><span style="font-family:roboto"><span style="font-size:11.0pt"> they&rsquo\;re assigned to at local organizations.&nbsp\;<br />\nProjects requests are open to </span></span></span><strong><span style="color:#005191"><span style="font-family:roboto"><span style="font-size:11.0pt">ALL nonprofits</span></span></span></strong><span style="color:#005191"><span style="font-family:roboto"><span style="font-size:11.0pt">\, and small businesses\, including local nonprofit agencies\, service clubs\, public schools\, municipal partners and community organizations in McHenry County.</span></span></span><br />\n&nbsp\;
LOCATION:
UID:e.2066.5026
SEQUENCE:3
DTSTAMP:20260419T171724Z
URL:https://dev.chainolakeschamber.com/events/details/united-way-s-day-of-caring-2023-5026
END:VEVENT

END:VCALENDAR
