BEGIN:VCALENDAR
VERSION:2.0
PRODID:-//ChamberMaster//Event Calendar 2.0//EN
METHOD:PUBLISH
X-PUBLISHED-TTL:P3D
REFRESH-INTERVAL:P3D
CALSCALE:GREGORIAN
BEGIN:VEVENT
DTSTART:20221027T213000Z
DTEND:20221027T233000Z
X-MICROSOFT-CDO-ALLDAYEVENT:FALSE
SUMMARY:United Way's Campaign Champion Kick Off Mixer
DESCRIPTION:Celebrate another year of Giving Back to McHenry County while Mixing and Mingling with Campaign Champions. Drinks and Hors d'oeuvres will be served.
X-ALT-DESC;FMTTYPE=text/html:Celebrate another year of Giving Back to McHenry County while Mixing and Mingling with Campaign Champions. Drinks and Hors d&#39\;oeuvres will be served.
LOCATION:United Way 4508 Prime Parkway
UID:e.2066.4645
SEQUENCE:3
DTSTAMP:20260422T120943Z
URL:https://dev.chainolakeschamber.com/events/details/united-way-s-campaign-champion-kick-off-mixer-4645
END:VEVENT

END:VCALENDAR
